BEGIN:VCALENDAR
VERSION:2.0
PRODID:-//Kosha - ECPv6.15.13//NONSGML v1.0//EN
CALSCALE:GREGORIAN
METHOD:PUBLISH
X-WR-CALNAME:Kosha
X-ORIGINAL-URL:https://kosha.be
X-WR-CALDESC:Évènements pour Kosha
REFRESH-INTERVAL;VALUE=DURATION:PT1H
X-Robots-Tag:noindex
X-PUBLISHED-TTL:PT1H
BEGIN:VTIMEZONE
TZID:Europe/Brussels
BEGIN:DAYLIGHT
TZOFFSETFROM:+0100
TZOFFSETTO:+0200
TZNAME:CEST
DTSTART:20240331T010000
END:DAYLIGHT
BEGIN:STANDARD
TZOFFSETFROM:+0200
TZOFFSETTO:+0100
TZNAME:CET
DTSTART:20241027T010000
END:STANDARD
BEGIN:DAYLIGHT
TZOFFSETFROM:+0100
TZOFFSETTO:+0200
TZNAME:CEST
DTSTART:20250330T010000
END:DAYLIGHT
BEGIN:STANDARD
TZOFFSETFROM:+0200
TZOFFSETTO:+0100
TZNAME:CET
DTSTART:20251026T010000
END:STANDARD
BEGIN:DAYLIGHT
TZOFFSETFROM:+0100
TZOFFSETTO:+0200
TZNAME:CEST
DTSTART:20260329T010000
END:DAYLIGHT
BEGIN:STANDARD
TZOFFSETFROM:+0200
TZOFFSETTO:+0100
TZNAME:CET
DTSTART:20261025T010000
END:STANDARD
END:VTIMEZONE
BEGIN:VEVENT
DTSTART;VALUE=DATE:20250322
DTEND;VALUE=DATE:20250330
DTSTAMP:20260421T212048
CREATED:20240413T163119Z
LAST-MODIFIED:20250116T135633Z
UID:1461-1742601600-1743292799@kosha.be
SUMMARY:Retraite retour à soi : trek\, transformation et tradition au cœur du désert marocain
DESCRIPTION:Au cœur des dunes dorées du désert marocain\, loin du tumulte du quotidien\, Ludivine et Julie ont imaginé pour vous une retraite pas comme les autres. Deux passionnées du développement personnel\, elles ont uni leurs forces\, leurs savoirs et leurs énergies pour créer une expérience unique\, mêlant tradition\, spiritualité et transformation. \nLudivine\, avec sa sensibilité aux énergies et son expertise en méditation\, vous guidera à travers des voyages intérieurs profonds\, vous aidant à vous reconnecter à votre essence. Julie\, avec son amour pour les couleurs\, son approche holistique du bien-être et sa passion pour le corps\, vous fera découvrir comment harmoniser votre vie à travers les nuances et les vibrations. \nEnsemble\, elles vous promettent une semaine d’éveil\, de découverte et de partage. Une semaine où chaque moment est une invitation à se découvrir\, à grandir et à s’épanouir. \nRejoignez les pour cette aventure au cœur du désert\, et laissez vous guider vers une version plus authentique\, plus équilibrée et plus rayonnante de vous-même. \nImaginez un instant : le doux crépuscule du désert marocain\, une brise légère caressant votre visage\, le sable fin sous vos pieds et un ciel étoilé comme vous n’en avez jamais vu. C’est dans ce cadre authentique et apaisant que nous vous invitons à vous joindre à nous pour une semaine de reconnexion profonde à vous-même. \nAu profit de l’asbl Kosha\, qui s’engage passionnément pour l’amélioration des conditions de vie des femmes à travers le monde\, cette retraite est bien plus qu’un simple voyage. C’est une invitation à la transformation personnelle\, guidée par les expertises bienveillantes de Julie et Ludivine. Ensemble\, nous explorerons des ateliers de développement personnel\, des méditations profondes et des treks au rythme de la nature. \nQue vous cherchiez à faire la paix avec votre corps\, à ouvrir votre esprit à de nouvelles perspectives ou simplement à vous évader du quotidien\, cette semaine promet d’être une expérience inoubliable. Et\, bien sûr\, tout cela sera ponctué par des moments de partage\, des veillées autour du feu et des surprises qui éveilleront vos sens. \nRejoignez nous pour cette aventure unique\, où tradition marocaine et développement personnel se rencontrent pour créer une expérience mémorable. Laissez le désert vous murmurer ses secrets et repartez avec un cœur plus léger et une âme revitalisée. \nLes bienfaits de ce stage sont : \n\nReconnexion profonde : Dans le calme du désert\, loin du tumulte quotidien\, retrouvez un lien profond avec votre moi intérieur\, favorisant introspection et prise de conscience.\nRevitalisation corporelle : Les marches et treks vous permettront de renouer avec votre corps\, de le ressentir et de l’apprécier\, tout en profitant des paysages époustouflants du désert marocain.\nÉpanouissement spirituel : Grâce aux ateliers et méditations guidées\, découvrez ou redécouvrez des outils et techniques pour nourrir votre esprit et élargir votre conscience.\nRencontre et partage : Dans un cadre bienveillant\, échangez avec des personnes partageant les mêmes aspirations\, créant des liens forts et des souvenirs mémorables.\nOutils pratiques pour le quotidien : Emportez avec vous des techniques comme l’Hopponopono\, les quantiques olfactifs et leurs puissants messages\, la magie des couleurs à remettre aux bons endroits dans notre vie\, … et d’autres enseignements pour enrichir votre quotidien et continuer votre développement personnel chez vous.\nSoutien d’experts : Bénéficiez de l’accompagnement de Julie et Ludivine\, deux passionnées du développement personnel\, qui vous guideront à travers chaque étape de cette aventure intérieure.\nContribution solidaire : En participant à cette retraite\, vous soutenez également l’asbl Kosha dans sa noble mission d’améliorer les conditions de vie des femmes à travers le monde.\nRevigoration émotionnelle : Les ateliers centrés sur les chakras\, les couleurs et les familles d’âmes offrent des opportunités de guérison émotionnelle et de découverte de soi.\n\n\n\n\nL’énergie du désert apportera également son lot de surprises qui seront découvertes une fois sur place.  Des prises de consciences\, des libérations\, des purifications par des exercices de respiration et de méditations vous emmèneront sur les chemins de votre Être Intérieur\, à la rencontre de votre Moi profond\, celui qui a toujours été présent et auquel nous avons maintenant la possibilité de nous reconnecter en conscience. \nAU PROGRAMME : \n\nDécouverte du désert marocain : Immergez vous dans la beauté sauvage et envoûtante des dunes et des paysages désertiques.\nRencontre avec les nomades : Partagez des moments authentiques avec les habitants du désert\, découvrez leur mode de vie et leurs traditions ancestrales.\nMarche quotidienne dans le désert : Chaque jour\, embarquez pour une marche d’environ 4 heures\, un moment privilégié pour se connecter à la nature et à soi-même.\nMéditation : Profitez de séances de méditation pour vous recentrer\, vous apaiser et vous connecter à l’énergie du désert.\nLes quantiques olfactifs : Explorez le pouvoir des fragrances et leurs influences sur notre bien-être et notre état d’esprit.\nWorkshops : Participez à des ateliers de développement personnel animés par des experts\, pour approfondir votre connaissance de vous-même et enrichir votre voyage intérieur.\nLe monde magique des couleurs : Découvrez comment harmoniser les couleurs dans votre vie\, que ce soit dans vos vêtements\, votre décoration ou même votre alimentation\, pour équilibrer vos énergies et votre bien-être.\nLes familles d’Âmes : Plongez dans la découverte des différentes familles d’âmes\, comprenez leurs spécificités et identifiez la vôtre pour une meilleure compréhension de votre chemin de vie.\nCercles sacrés : Rejoignez des moments de rassemblement où la spiritualité et la communion prennent tout leur sens.\nPartages et échanges : Dans un esprit de bienveillance\, partagez vos ressentis\, vos découvertes et vos expériences avec les autres participants.\nFeux de joie/ Chants tous les soirs avec les nomades : Chaque soir\, laissez vous emporter par la magie des chants et des danses autour du feu\, en compagnie des nomades\, pour des moments inoubliables de convivialité et de partage.\n\nINCLUS DANS LE VOYAGE :\n\nLes transferts depuis et vers l’aéroport\nLa première et dernière nuit à Marrakech\nLes trajets Marrakech – M’Hamid et retour\nTous les repas durant le séjour\nLa première nuit dans le désert dans un bivouac fixe tout confort à M’Hamid\nLe trek avec accompagnement (guide\, chamelier\, cuisinier) et la caravane de dromadaires\nLes nuits en tente\nLes transferts en 4×4\nLes workshops et méditations\n\nNON INCLUS :\n\nLes billets d’avion\nL’assurance voyage\n\nPrix du voyage :  \n\n\nOffre « Formule SOLO » * \n\n\n\n\nL’expérience complète\, rien que pour toi \n\n\n\n\nPrix : 1790€ \n\n\n\n\nInclut : \n\n\n\n\n\n\n\nAccueil à l’aéroport de Marrakech et prise en charge complète tout au long de la retraite\nTous les repas\, logements et déplacements sur place\nProgramme complet : ateliers\, méditations\, et marche quotidienne avec les guides nomades\nAccès au groupe WhatsApp dédié pour partager l’expérience avec les participantes\nDes surprises tout au long de l’aventure ✨\nPossibilité de régler en plusieurs fois\n\n\n\n\n\n\n\nOffre « Formule DUO » * \n\n\n\n\nÀ partager avec une amie pour une transformation amplifiée \n\n\n\n\nPrix : 2890€ \n\n\n\n\n(Soit 1445€ par personne) \n\n\n\n\nInclut : \n\n\n\n\n\n\n\nAccueil à l’aéroport de Marrakech et prise en charge complète tout au long de la retraite\nTous les repas\, logements et déplacements sur place\nProgramme complet : ateliers\, méditations\, et marche quotidienne avec les guides nomades\nAccès au groupe WhatsApp dédié pour partager l’expérience avec les participantes\nDes surprises tout au long de l’aventure ✨\nPossibilité de régler en plusieurs fois\n\n  \n\n\n\n\nAprès une semaine passée sous le ciel étoilé du désert marocain\, entouré de la chaleur des feux de joie et des chants des nomades\, vous ne serez plus la même personne. Ce n’est pas seulement une retraite\, c’est une transformation\, une renaissance. C’est l’occasion de vous reconnecter à votre essence\, de découvrir des outils puissants pour votre bien-être quotidien et de créer des liens profonds avec des âmes partageant les mêmes aspirations. \nChaque moment\, chaque atelier\, chaque marche dans le désert a été soigneusement pensé pour vous offrir une expérience inoubliable. Et au-delà de tout cela\, en nous rejoignant\, vous soutenez également une cause noble\, contribuant à l’amélioration des conditions de vie des femmes à travers le monde. \nNe laissez pas passer cette chance. Réservez votre place dès maintenant et embarquez pour une aventure qui promet d’éveiller votre cœur\, votre esprit et votre âme. Nous avons hâte de vous accueillir et de partager cette merveilleuse odyssée avec vous. \nDe tout cœur\, \nLudivine et Julie \n\n\n\n\n\nRESERVATION\n\n\n\n\n\n\n\n\n\n\n\n\nLa réservation s’effectue par mail\, via notre formulaire de contact ou à l’aide du formulaire d’inscription. Votre réservation sera garantie dès la réception d’un acompte de 50% du montant total.\nUn récapitulatif du séjour vous sera envoyé avant le départ\, avec descriptif de l’itinéraire\, des modes d’hébergement et de transport\, des prestations comprises dans le séjour\, ainsi que des conseils aux voyageurs.\nLe solde sera à régler avant votre départ en trek\, soit à l’arrivée au bivouac fixe en espèces (dirhams ou euros) soit par virement bancaire sur un compte marocain (les frais de banque et de change sont à la charge de l’émetteur).\n\n\n\n\n\n\n\n\n\n\n\n\nANNULATION\n\n\n\n\n\n\n\n\n\n\n\n\nJusqu’à 31 jours avant le départ : vous serez chargés à 50%\nAprès cette date\, vous serez chargés à 100 %\n\nQUESTIONS\, DEMANDES OU INFORMATIONS\nN’hésitez pas à envoyer un e-mail à tout moment si vous avez des questions:\nludivine@kosha.be\nVous pouvez également me contacter via what’s app au +32 (0)495 04 99 80 \n\n\n\n\n\n\n\n\n\n\n\nou sur ma page Facebook
URL:https://kosha.be/event/retraite-retour-a-soi-trek-transformation-et-tradition-au-coeur-du-desert-marocain/
CATEGORIES:Voyages
ATTACH;FMTTYPE=image/jpeg:https://kosha.be/wp-content/uploads/2024/04/julie.jpg
END:VEVENT
END:VCALENDAR