BEGIN:VCALENDAR
VERSION:2.0
PRODID:-//Kosha - ECPv6.15.13//NONSGML v1.0//EN
CALSCALE:GREGORIAN
METHOD:PUBLISH
X-ORIGINAL-URL:https://kosha.be
X-WR-CALDESC:Évènements pour Kosha
REFRESH-INTERVAL;VALUE=DURATION:PT1H
X-Robots-Tag:noindex
X-PUBLISHED-TTL:PT1H
BEGIN:VTIMEZONE
TZID:Europe/Brussels
BEGIN:DAYLIGHT
TZOFFSETFROM:+0100
TZOFFSETTO:+0200
TZNAME:CEST
DTSTART:20240331T010000
END:DAYLIGHT
BEGIN:STANDARD
TZOFFSETFROM:+0200
TZOFFSETTO:+0100
TZNAME:CET
DTSTART:20241027T010000
END:STANDARD
BEGIN:DAYLIGHT
TZOFFSETFROM:+0100
TZOFFSETTO:+0200
TZNAME:CEST
DTSTART:20250330T010000
END:DAYLIGHT
BEGIN:STANDARD
TZOFFSETFROM:+0200
TZOFFSETTO:+0100
TZNAME:CET
DTSTART:20251026T010000
END:STANDARD
BEGIN:DAYLIGHT
TZOFFSETFROM:+0100
TZOFFSETTO:+0200
TZNAME:CEST
DTSTART:20260329T010000
END:DAYLIGHT
BEGIN:STANDARD
TZOFFSETFROM:+0200
TZOFFSETTO:+0100
TZNAME:CET
DTSTART:20261025T010000
END:STANDARD
END:VTIMEZONE
BEGIN:VEVENT
DTSTART;VALUE=DATE:20250208
DTEND;VALUE=DATE:20250216
DTSTAMP:20260421T191833
CREATED:20241010T122453Z
LAST-MODIFIED:20241226T115210Z
UID:1470-1738972800-1739663999@kosha.be
SUMMARY:Retraite dans le désert
DESCRIPTION:Éveil sous les étoiles\nUn voyage initiatique dans le désert marocain : quelle meilleure façon de bien commencer 2025 ?\nDu 08 au 15 février 2025\, Ludivine et Kosha.asbl nous propose\, pour sa 2ème édition\, une pause de découverte et de ressourcement purs\, autant physiques que spirituels\, en plein cœur du Sahara. \nNous aurons le privilège de nourrir notre âme de moments magiques et exceptionnels. \nSabine\, de Une Pause au Présent\, nous fait le cadeau de se joindre à nous et de guider notre groupe grâce à la Sophrologie\, au Tarot et/ou à des massages au bol kansu. \nDurant cette expérience magique\, vous aurez l’opportunité de vous reconnecter avec vous-même\, de vous plonger dans la richesse de la culture marocaine et d’explorer les mystères du désert. \nCe voyage est une occasion unique de vous ressourcer\, de vous recentrer et de prendre du recul pour mieux avancer dans la vie. Vous ferez partie d’un groupe de personnes partageant la même quête\, ce qui créera des liens forts et des souvenirs inoubliables. \n  \n**Un Voyage au Service de la Solidarité**\nParticipez à une expérience unique tout en contribuant à une noble cause ! \nLes bénéfices de notre voyage seront entièrement reversés pour soutenir le projet **Vélo pour les enfants**\, qui aide à améliorer le quotidien des enfants dans le besoin. \nPour en savoir plus sur cette initiative\, n’hésitez pas à visiter notre page Facebook :  lien Facebook Projet Vélos pour les enfants \nEnsemble\, nous pouvons réellement changer des vies et offrir à ces enfants l’opportunité de rêver d’un avenir meilleur. \n  \n**Attention\, les places sont limitées !** \nNe tardez pas à réserver la vôtre. Ce voyage initiatique au cœur du désert marocain est non seulement une aventure inoubliable\, mais également un cadeau qui durera toute une vie. \nPour plus d’informations et pour réserver votre place\, contactez-nous dès maintenant. Nous sommes là pour répondre à toutes vos questions et avons hâte de partager cette aventure incroyable avec vous ! \nLudivine et Sabine \n  \nLES BIENFAITS DE CETTE RETRAITE :\n\nReconnexion profonde : Dans le calme du désert\, loin du tumulte quotidien\, retrouvez un lien profond avec votre moi intérieur\, favorisant introspection et prise de conscience.\nRevitalisation corporelle : Les marches et treks vous permettront de renouer avec votre corps\, de le ressentir et de l’apprécier\, tout en profitant des paysages époustouflants du désert marocain.\nÉpanouissement spirituel : Grâce aux ateliers et méditations guidées\, découvrez ou redécouvrez des outils et techniques pour nourrir votre esprit et élargir votre conscience.\nRencontre et partage : Dans un cadre bienveillant\, échangez avec des personnes partageant les mêmes aspirations\, créant des liens forts et des souvenirs mémorables.\nOutils pratiques pour le quotidien : Emportez avec vous des techniques comme l’Hopponopono\, les quantiques olfactifs et leurs puissants messages\, la sophrologie\, le tarot et d’autres enseignements pour enrichir votre quotidien et continuer votre développement personnel chez vous.\nSoutien d’experts : Bénéficiez de l’accompagnement de Sabine et Ludivine\, deux passionnées du développement personnel\, qui vous guideront à travers chaque étape de cette aventure intérieure.\nContribution solidaire : En participant à cette retraite\, vous soutenez également l’asbl Kosha dans sa noble mission d’améliorer les conditions de vie des enfants à travers le monde.\nRevigoration émotionnelle : Les ateliers centrés sur les chakras\, la sophrologie et les familles d’âmes offrent des opportunités de guérison émotionnelle et de découverte de soi.\n\n\n\n\nL’énergie du désert apportera également son lot de surprises qui seront découvertes une fois sur place.  Des prises de consciences\, des libérations\, des purifications par des exercices de respiration et de méditations vous emmèneront sur les chemins de votre Être Intérieur\, à la rencontre de votre Moi profond\, celui qui a toujours été présent et auquel nous avons maintenant la possibilité de nous reconnecter en conscience. \nAU PROGRAMME :\n\nDécouverte du désert marocain : Immergez vous dans la beauté sauvage et envoûtante des dunes et des paysages désertiques.\nRencontre avec les nomades : Partagez des moments authentiques avec les habitants du désert\, découvrez leur mode de vie et leurs traditions ancestrales.\nMarche quotidienne dans le désert : Chaque jour\, embarquez pour une marche d’environ 4 heures\, un moment privilégié pour se connecter à la nature et à soi-même.\nMéditation : Profitez de séances de méditation pour vous recentrer\, vous apaiser et vous connecter à l’énergie du désert.\nLes quantiques olfactifs : Explorez le pouvoir des fragrances et leurs influences sur notre bien-être et notre état d’esprit.\nWorkshops : Participez à des ateliers de développement personnel animés par des experts\, pour approfondir votre connaissance de vous-même et enrichir votre voyage intérieur.\nLes familles d’Âmes : Plongez dans la découverte des différentes familles d’âmes\, comprenez leurs spécificités et identifiez la vôtre pour une meilleure compréhension de votre chemin de vie.\nTarot Jodorowsky : Même s’il est souvent employé comme art divinatoire\, il est avant tout un fabuleux instrument de connaissance de soi et une représentation de la structure de l’âme. En tirant les cartes\, celui qui interroge le tarot est confronté à son état intérieur et guidé dans l’exploration de sa propre profondeur.\nLes 5 blessures de l’âme : Découvrez comment les cinq blessures fondamentales\, le rejet\, l’abandon\, l’humiliation\, la trahison et l’injustice\, influencent vos comportements et vos relations\, apprenez à les reconnaître pour entamer un processus de guérison profonde et redevenir pleinement vous-même.\nSophrologie : c’est créer l’harmonie vitale du corps et de l’esprit en invitant votre conscience à explorer les sensations de votre corps\, par des exercices de respiration\, de relaxation dynamique et de visualisation.\nCercles sacrés : Rejoignez des moments de rassemblement où la spiritualité et la communion prennent tout leur sens.\nPartages et échanges : Dans un esprit de bienveillance\, partagez vos ressentis\, vos découvertes et vos expériences avec les autres participants.\nFeux de joie/ Chants tous les soirs avec les nomades : Chaque soir\, laissez vous emporter par la magie des chants et des danses autour du feu\, en compagnie des nomades\, pour des moments inoubliables de convivialité et de partage.\n\nINCLUS DANS LE VOYAGE :\n\nLes transferts depuis et vers l’aéroport\nLa première et dernière nuit à Marrakech\nLes trajets Marrakech – M’Hamid et retour\nTous les repas durant le séjour\nLa première nuit dans le désert dans un bivouac fixe tout confort à M’Hamid\nLe trek avec accompagnement (guide\, chamelier\, cuisinier) et la caravane de dromadaires\nLes nuits en tente\nLes transferts en 4×4\nLes workshops et méditations\n\nNON INCLUS :\n\nLes billets d’avion\nL’assurance voyage\n\nPrix du voyage : 1450 euros \nAprès une semaine passée sous le ciel étoilé du désert marocain\, entouré de la chaleur des feux de joie et des chants des nomades\, vous ne serez plus la même personne. Ce n’est pas seulement une retraite\, c’est une transformation\, une renaissance. C’est l’occasion de vous reconnecter à votre essence\, de découvrir des outils puissants pour votre bien-être quotidien et de créer des liens profonds avec des âmes partageant les mêmes aspirations. \nChaque moment\, chaque atelier\, chaque marche dans le désert a été soigneusement pensé pour vous offrir une expérience inoubliable. Et au-delà de tout cela\, en nous rejoignant\, vous soutenez également une cause noble\, contribuant à l’amélioration des conditions de vie des enfants à travers le monde. \nNe laissez pas passer cette chance. Réservez votre place dès maintenant et embarquez pour une aventure qui promet d’éveiller votre cœur\, votre esprit et votre âme. Nous avons hâte de vous accueillir et de partager cette merveilleuse odyssée avec vous. \nDe tout cœur\, \nLudivine et Sabine \n\n\n\n\n\nRESERVATION\n\n\n\n\n\n\n\n\n\n\n\n\nLa réservation s’effectue par mail\, via notre formulaire de contact ou à l’aide du formulaire d’inscription. Votre réservation sera garantie dès la réception d’un acompte de 50% du montant total.\nUn récapitulatif du séjour vous sera envoyé avant le départ\, avec descriptif de l’itinéraire\, des modes d’hébergement et de transport\, des prestations comprises dans le séjour\, ainsi que des conseils aux voyageurs.\nLe solde sera à régler avant votre départ en trek\, soit à l’arrivée au bivouac fixe en espèces (dirhams ou euros) soit par virement bancaire sur un compte marocain (les frais de banque et de change sont à la charge de l’émetteur).\n\n\n\n\n\n\n\n\n\n\n\n\nANNULATION\n\n\n\n\n\n\n\n\n\n\n\n\nJusqu’à 31 jours avant le départ : vous serez chargés à 50%\nAprès cette date\, vous serez chargés à 100 %\n\nQUESTIONS\, DEMANDES OU INFORMATIONS\nN’hésitez pas à envoyer un e-mail à tout moment si vous avez des questions :\nludivine@kosha.be\nVous pouvez également me contacter via what’s app au +32 (0)495 04 99 80 \n\n\n\n\n\n\n\n\n\n\n\nou sur ma page Facebook
URL:https://kosha.be/event/retraite-dans-le-desert/
CATEGORIES:Voyages
ATTACH;FMTTYPE=image/png:https://kosha.be/wp-content/uploads/2024/10/AnnonceDesert.zip-1.png
ORGANIZER;CN="kilesse ludivne":MAILTO:ludivine@kosha.be
END:VEVENT
END:VCALENDAR