BEGIN:VCALENDAR
VERSION:2.0
PRODID:-//Kosha - ECPv6.15.13//NONSGML v1.0//EN
CALSCALE:GREGORIAN
METHOD:PUBLISH
X-ORIGINAL-URL:https://kosha.be
X-WR-CALDESC:Évènements pour Kosha
REFRESH-INTERVAL;VALUE=DURATION:PT1H
X-Robots-Tag:noindex
X-PUBLISHED-TTL:PT1H
BEGIN:VTIMEZONE
TZID:Europe/Brussels
BEGIN:DAYLIGHT
TZOFFSETFROM:+0100
TZOFFSETTO:+0200
TZNAME:CEST
DTSTART:20220327T010000
END:DAYLIGHT
BEGIN:STANDARD
TZOFFSETFROM:+0200
TZOFFSETTO:+0100
TZNAME:CET
DTSTART:20221030T010000
END:STANDARD
BEGIN:DAYLIGHT
TZOFFSETFROM:+0100
TZOFFSETTO:+0200
TZNAME:CEST
DTSTART:20230326T010000
END:DAYLIGHT
BEGIN:STANDARD
TZOFFSETFROM:+0200
TZOFFSETTO:+0100
TZNAME:CET
DTSTART:20231029T010000
END:STANDARD
BEGIN:DAYLIGHT
TZOFFSETFROM:+0100
TZOFFSETTO:+0200
TZNAME:CEST
DTSTART:20240331T010000
END:DAYLIGHT
BEGIN:STANDARD
TZOFFSETFROM:+0200
TZOFFSETTO:+0100
TZNAME:CET
DTSTART:20241027T010000
END:STANDARD
END:VTIMEZONE
BEGIN:VEVENT
DTSTART;VALUE=DATE:20231216
DTEND;VALUE=DATE:20231224
DTSTAMP:20260422T181430
CREATED:20230526T163647Z
LAST-MODIFIED:20231015T155250Z
UID:359-1702684800-1703375999@kosha.be
SUMMARY:Voyage initiatique au coeur du désert Marocain et à la découverte de ton potentiel
DESCRIPTION:C’est le moment de laisser derrière nous tout ce qui nous encombre et faire place au renouveau afin d’aborder 2024 dans la sérénité. \n\n			\n	\n\n  \nVous voulez reprendre votre vie en main\, redevenir acteur conscient et ne plus laisser les autres faire des choix pour vous?\nNous vous proposons de vous reconnecter à votre intuition profonde et à vos capacités extra-sensorielles. \nDepuis des années\, vous avez peut-être l’impression d’être pris dans un engrenage d’habitudes\, de règles\, de conformités qui ne vous conviennent plus.  Vous êtes le capitaine de votre bateau et aujourd’hui nous vous accompagnons pour retrouver votre confiance en vous et votre épanouissement personnel par des outils accessibles à tous\, sans aucun prérequis.  Vous pourrez\, en quelques jours\, vous reconnecter à votre être intérieur\, en libérant les charges du passé vous permettant d’avancer sereinement vers votre nouveau « Moi »\, vers qui vous êtes réellement. \nLe désert est un « terrain de jeu » sacré qui vous accompagnera dans cette transformation initiatique.  Vous laisserez sur place les bagages\, schémas\, croyances\, limitations… qui vous encombrent sur la voie de votre réalisation.  Comme aiment le répéter les nomades: « Le Désert Absorbe et Nous Transforme ».  L’ancien reste là bas et laisse place au renouveau. \nCette opportunité de se reconnecter à Soi change littéralement la vision du monde dans lequel nous évoluons.  Le Clair Ressenti ou encore appelé Clairsentience est la capacité extra-sensorielle la plus accessible à tous.  En quelques heures\, vous pourrez découvrir et maîtriser cette possibilité de communiquer avec le monde invisible (qui n’est invisible que par nos yeux) et plonger dans une réalité intangible\, mais tellement réelle. \nNous serons également accompagnés par le pouvoir des huiles essentielles et des quantiques olfactifs qui sont une porte vers la guérison de l’âme.  L’olfactothérapie est l’accès vers le système limbique\, lieu de naissance des émotions et activation de la mémoire.  Nos émotions sont mises en lumière pour être traitées et libérées.\nEn libérant nos blessures émotionnelles\, nous permettons à notre corps de guérir les blessures physiques. \n\n			\n	\n\n  \nPendant ce voyage initiatique\, vous pourrez : \n\nVous connecter à vos émotions\nLibérer des schémas répétitifs\, des peurs\, angoisses\, etc.\nRetrouver une confiance en vous\nVoir plus clair dans votre vie et prendre des décisions justes\nEtre capable d’agir en ayant levé certaines limitations\nVous libérer de liens toxiques\, qu’ils soient sentimentaux et/ou familiaux\nRetrouver votre libre arbitre\nOser vivre Votre Vie et briser vos chaînes\n\nVous apprendrez à : \n\nPercevoir les couches énergétiques de votre corps.\nSe protéger et se purifier de manière simple et rapide.\nDistinguer ce qui impacte positivement ou négativement votre corps.\nMesurer la qualité d’un aliment et son impact sur le vivant.\nMesurer un taux vibratoire.\nAugmenter son ancrage.\nMesurer la qualité d’une information.\nSentir et mesurer le rayonnement des chakras.\nVous serez également en capacité d’entrer en contact avec votre ange gardien et dialoguer avec lui de manière sécurisée et fiable.\n\nVous retrouverez ainsi une plus grande vitalité\, une augmentation de votre confiance en vous\, une plus grande autonomie\, une prise de conscience accrue… \nL’énergie du désert apportera également son lot de surprises qui seront découvertes une fois sur place.  Des prises de consciences\, des libérations\, des purifications par des exercices de respiration et de méditations vous emmèneront sur les chemins de votre Être Intérieur\, à la rencontre de votre Moi profond\, celui qui a toujours été présent et auquel nous avons maintenant la possibilité de nous reconnecter en conscience. \n\n			\n	\n\n  \nAU PROGRAMME : \n\n(Re)découverte du désert marocain\nRencontre avec les nomades\nMarches quotidiennes dans le désert (environ 4h par jour en respectant le rythme de chacun).\nInitiation et pratique du Clair Ressenti (ClairSentience)\nMéditations\nDécouverte et utilisation des Quantiques Olfactifs\nCercles Sacrés autour du feux\nPartages et échanges\nFeux de Joie et Chants tous les soirs avec les nomades\n\nINCLUS DANS LE VOYAGE :\n\nLes transferts depuis et vers l’aéroport\nLa première et dernière nuit à Marrakech\nLes trajets Marrakech – M’Hamid et retour\nTous les repas durant le séjour\nLes deux premières nuits dans le désert dans un bivouac fixe tout confort à M’Hamid\nLe trek avec accompagnement (guide\, chamelier\, cuisinier) et la caravane de dromadaires\nLes nuits en tente\nLes transferts en 4×4\nDécouverte et initiation au clair ressenti\nLes workshops et méditations\n\nNON INCLUS :\n\nLes billets d’avion\nLes pourboires qu’il est d’usage de laisser\nL’assurance voyage\n\nPrix du voyage : 1450 euros \nINFORMATIONS PRATIQUES ET PACKING LIST \nDans le désert\, nous dormirons à plusieurs dans des grandes tentes nomades.\nVous avez également la possibilité de demander une tente individuelle moyennant un léger supplément. \nDes matelas individuels et des couvertures vous seront fournis. A vous d’emporter : \n\nUn sac de couchage (à adapter à la saison: mars/avril : 10-15°C).\nUn « sac à viande » éventuellement pour améliorer le confort et augmenter de quelques degrés la température.\nune paire de baskets légères et confortables\, ou des chaussures de marche basse\,\ndes sandales à porter avec des chaussettes. On se fait vite au look sandales+chaussettes\, et c’est l’idéal pour se protéger à la fois du soleil et éviter d’avoir les chaussures qui se remplissent de sable.\nChemises ou tee-shirts à manche longue éventuellement traités anti-UV pour la marche\nPantalon léger de randonnée\nChaussettes légères pour la journée et chaudes pour le soir\nPolaire ou doudoune pour les soirées autour du feu\nVeste imperméable\nBrosse à dents + dentifrice\nPas de douche dans le désert ! Un gant de toilette humidifié à l’eau du puit permet une « toilette de chat » bien rafraichissante. Si vous préférez\, vous pouvez emporter des lingettes nettoyantes (type lingettes bébé) avec un sac poubelle pour les conserver et les jeter une fois revenu à la civilisation.\nSavon de Marseille\nCrème hydratante et baume à lèvres. Le soleil et le vent du désert peuvent être desséchants.\nSérum physiologique pour le rinçage des yeux et du nez.\nMouchoirs en papier\nLunettes de soleil\nLunettes de glacier en cas de vent de sable\, si vous avez les yeux fragiles.\nPapier toilette + briquet pour brûler le papier une fois utilisé. Ne pas l’enterrer dans le sable !\nLampe frontale pour s’installer au bivouac une fois la nuit tombée\nGourde pour un trek écologique pour éviter les bouteilles d’eau plastiques.\nUn chèche. Indispensable pour se protéger le visage et la nuque du vent\, du soleil\, du froid et du sable. Vous pourrez l’acheter directement à M’Hamid au départ de votre trek.\n\nOn partagera d’autres bons tips dans le groupe WhatsApp à l’approche du départ. \nINFORMATIONS PERSONNELLES\nPour votre sécurité\, veuillez nous faire savoir si vous êtes concernée par: \n\nDes blessures ? Si oui\, est-ce un problème dans le cadre d’une pratique de marche dynamique ou de tout autre exercice/activité physique ? Merci de nous en informer à l’avance.\nAllergies alimentaires? Suivez-vous un régime spécial? Les recettes seront toutes avec option sans gluten et sans produit laitier.\nY’a-t-il d’autres conditions médicales que nous devrions connaître?\n\n\n\n\n\n\nRESERVATION\n\n\n\n\n\n\n\n\n\n\n\n\nLa réservation s’effectue par mail\, via notre formulaire de contact ou à l’aide du formulaire d’inscription. Votre réservation sera garantie dès la réception d’un acompte de 50% du montant total.\nUn récapitulatif du séjour vous sera envoyé avant le départ\, avec descriptif de l’itinéraire\, des modes d’hébergement et de transport\, des prestations comprises dans le séjour\, ainsi que des conseils aux voyageurs.\nLe solde sera à régler avant votre départ en trek\, soit à l’arrivée au bivouac fixe en espèces (dirhams ou euros) soit par virement bancaire sur un compte marocain (les frais de banque et de change sont à la charge de l’émetteur).\n\n\n\n\n\n\n\n\n\n\n\n\nANNULATION\n\n\n\n\n\n\n\n\n\n\n\n\nJusqu’à 31 jours avant le départ : vous serez chargés à 50%\nAprès cette date\, vous serez chargés à 100 %\n\nQUESTIONS\, DEMANDES OU INFORMATIONS\nN’hésitez pas à envoyer un e-mail à tout moment si vous avez des questions: \nludivine@kosha.be\nVous pouvez également me contacter via WhatsApp au +32 495 04 99 80 \nstephane@coach-holistique.be  ou par WhatsApp au +32 489 58 76 26
URL:https://kosha.be/event/trek-au-maroc/
CATEGORIES:Voyages
END:VEVENT
END:VCALENDAR